BEGIN:VCALENDAR
VERSION:2.0
PRODID:-//underseaROV - ECPv6.10.1.1//NONSGML v1.0//EN
CALSCALE:GREGORIAN
METHOD:PUBLISH
X-WR-CALNAME:underseaROV
X-ORIGINAL-URL:https://www.undersearov.com
X-WR-CALDESC:Events for underseaROV
REFRESH-INTERVAL;VALUE=DURATION:PT1H
X-Robots-Tag:noindex
X-PUBLISHED-TTL:PT1H
BEGIN:VTIMEZONE
TZID:Australia/Sydney
BEGIN:STANDARD
TZOFFSETFROM:+1100
TZOFFSETTO:+1000
TZNAME:AEST
DTSTART:20180331T160000
END:STANDARD
BEGIN:DAYLIGHT
TZOFFSETFROM:+1000
TZOFFSETTO:+1100
TZNAME:AEDT
DTSTART:20181006T160000
END:DAYLIGHT
BEGIN:STANDARD
TZOFFSETFROM:+1100
TZOFFSETTO:+1000
TZNAME:AEST
DTSTART:20190406T160000
END:STANDARD
BEGIN:DAYLIGHT
TZOFFSETFROM:+1000
TZOFFSETTO:+1100
TZNAME:AEDT
DTSTART:20191005T160000
END:DAYLIGHT
BEGIN:STANDARD
TZOFFSETFROM:+1100
TZOFFSETTO:+1000
TZNAME:AEST
DTSTART:20200404T160000
END:STANDARD
BEGIN:DAYLIGHT
TZOFFSETFROM:+1000
TZOFFSETTO:+1100
TZNAME:AEDT
DTSTART:20201003T160000
END:DAYLIGHT
BEGIN:STANDARD
TZOFFSETFROM:+1100
TZOFFSETTO:+1000
TZNAME:AEST
DTSTART:20210403T160000
END:STANDARD
BEGIN:DAYLIGHT
TZOFFSETFROM:+1000
TZOFFSETTO:+1100
TZNAME:AEDT
DTSTART:20211002T160000
END:DAYLIGHT
BEGIN:STANDARD
TZOFFSETFROM:+1100
TZOFFSETTO:+1000
TZNAME:AEST
DTSTART:20220402T160000
END:STANDARD
BEGIN:DAYLIGHT
TZOFFSETFROM:+1000
TZOFFSETTO:+1100
TZNAME:AEDT
DTSTART:20221001T160000
END:DAYLIGHT
END:VTIMEZONE
BEGIN:VEVENT
DTSTART;VALUE=DATE:20221103
DTEND;VALUE=DATE:20221104
DTSTAMP:20260421T093612
CREATED:20220303T091710Z
LAST-MODIFIED:20220303T093611Z
UID:3017-1667433600-1667519999@www.undersearov.com
SUMMARY:World Jellyfish Day
DESCRIPTION:Jellyfish are in the phylum Cnidarians an ancient group of animals with a history of more than 650 million years. The word Cnidarian comes from the Ancient Greek: knide = nettle\, named after a type of plant with stinging hairs. They have soft\, hollow bodies\, live in water and generally have tentacles. \nFun Fact: Moon Jelly can age backwards! They can revert back into polyp stage and then regrow into an adult again. Moon Jellies can also regenerate lost body parts.
URL:https://www.undersearov.com/event/world-jellyfish-day-2/
CATEGORIES:Marine Science
ATTACH;FMTTYPE=image/jpeg:https://www.undersearov.com/wp-content/uploads/2022/03/Jellyfish-orange-LS.jpg
END:VEVENT
BEGIN:VEVENT
DTSTART;VALUE=DATE:20220830
DTEND;VALUE=DATE:20220831
DTSTAMP:20260421T093612
CREATED:20220303T093526Z
LAST-MODIFIED:20220303T093526Z
UID:3021-1661817600-1661903999@www.undersearov.com
SUMMARY:International Whale Shark Day
DESCRIPTION:We love these gentle giants of the ocean and are sad to say Whale Sharks are listed as Endangered and are at risk of extinction in the wild. International Whale Shark Day is used to highlight their wonder\, their role in keeping our ocean ecosystems healthy and balanced – and the threats they face so that we can collectively work to make sure we do not lose these disappearing giants.
URL:https://www.undersearov.com/event/international-whale-shark-day/
CATEGORIES:Marine Science
ATTACH;FMTTYPE=image/jpeg:https://www.undersearov.com/wp-content/uploads/2022/03/download.jpg
END:VEVENT
BEGIN:VEVENT
DTSTART;VALUE=DATE:20220608
DTEND;VALUE=DATE:20220609
DTSTAMP:20260421T093612
CREATED:20220303T091931Z
LAST-MODIFIED:20220303T093842Z
UID:3019-1654646400-1654732799@www.undersearov.com
SUMMARY:World Oceans Day
DESCRIPTION:The 2022 theme for the United Nations World Ocean Day is Revitalization: Collective Action for the Ocean. \nWe need to conserve our wonderful marine resources for future generations. Get involved in the conversation with #WorldOceansDay and #BigBlueFuture and tag @MSCbluefishtick for the chance to have your post shared to our networks.
URL:https://www.undersearov.com/event/world-oceans-day-3/
CATEGORIES:Marine Science
ATTACH;FMTTYPE=image/jpeg:https://www.undersearov.com/wp-content/uploads/2022/03/download-1.jpg
END:VEVENT
BEGIN:VEVENT
DTSTART;VALUE=DATE:20211103
DTEND;VALUE=DATE:20211104
DTSTAMP:20260421T093612
CREATED:20211104T040059Z
LAST-MODIFIED:20211104T040059Z
UID:2934-1635897600-1635983999@www.undersearov.com
SUMMARY:World Jellyfish Day
DESCRIPTION:World Jellyfish Day celebrates this invertebrate that populated Earth’s oceans for millions of years. \nInterestingly\, despite its name\, the jellyfish isn’t actually a fish. While a fish’s anatomy centers around its spine\, jellyfish don’t even have a spine. In fact\, jellyfish don’t have gills\, a brain\, heart\, bones\, or blood. Instead\, a jellyfish is made up of 95 percent water.   Jellyfish do have skin through which they absorb oxygen and  jellyfish swim by contracting and relaxing the muscles around their body or bell.
URL:https://www.undersearov.com/event/world-jellyfish-day/
CATEGORIES:Marine Science
END:VEVENT
BEGIN:VEVENT
DTSTART;TZID=Australia/Sydney:20210617T090000
DTEND;TZID=Australia/Sydney:20210617T170000
DTSTAMP:20260421T093612
CREATED:20210608T023253Z
LAST-MODIFIED:20210608T023253Z
UID:2823-1623920400-1623949200@www.undersearov.com
SUMMARY:Urchin & Kelp Symposium
DESCRIPTION:The Nature Coast Marine Group has been instrumental in the creation of a symposium taking place in Narooma on the importance of healthy kelp forests and of controlling numbers of long-spined sea urchins. The symposium will be led by scientists from the University of New South Wales. The intention is to have a science-based introduction\, followed by practical discussions as to what action is feasible and how it should be progressed. Central to this will be various approaches to culling urchins\, but we will also be urging strengthening natural controls. We are also working for citizen science involvement and a central role for the Batemans Marine Park. \nHere are links to a couple of videos that can help you understand what it is all about: \n“Hidden Deserts” – a short video showing what urchin barrens are: \nhttps://www.youtube.com/watch?v=HGYj8YItrXA&t=8s \n“Sea Urchin Science” – A discussion with University of Tasmania scientist\, Dr Scott Ling\, taken when he was in the area doing research: \nhttps://www.youtube.com/watch?v=HGYj8YItrXA&t=8s
URL:https://www.undersearov.com/event/urchin-kelp-symposium/
CATEGORIES:Environment,Marine Science
END:VEVENT
BEGIN:VEVENT
DTSTART;VALUE=DATE:20210608
DTEND;VALUE=DATE:20210609
DTSTAMP:20260421T093612
CREATED:20210302T024558Z
LAST-MODIFIED:20210302T024558Z
UID:2744-1623110400-1623196799@www.undersearov.com
SUMMARY:World Ocean's Day 2021
DESCRIPTION:Protecting 30% of our blue planet for a healthy ocean and climate\n\n\nWith your help and that of hundreds of other organizations worldwide\, we will support and grow the global movement to protect 30% of our blue planet by 2030 (“30×30”). A healthy ocean is a critical part of the solution to the climate crisis. By supporting 30×30\, we can protect our planet’s life support systems – specifically the interconnected issues of ocean\, climate\, and biodiversity. \nDecisions about the future of our blue planet are being made this year by world leaders\, and they need to hear from you! The actions that our leaders take (or fail to take) this year will determine the health of our blue planet and security of future generations for decades to come. \nWe will very soon be posting resources and toolkits to help you and your organization integrate the Conservation Action Focus into your activities\, celebrations\, and other events. Stay tuned for more details!
URL:https://www.undersearov.com/event/world-oceans-day-2021/
CATEGORIES:Environment,Marine Science
END:VEVENT
BEGIN:VEVENT
DTSTART;VALUE=DATE:20210409
DTEND;VALUE=DATE:20210510
DTSTAMP:20260421T093612
CREATED:20210420T234853Z
LAST-MODIFIED:20210420T234853Z
UID:2773-1617926400-1620604799@www.undersearov.com
SUMMARY:Seaweed Forests Festival 2021
DESCRIPTION:The Seaweed Forests Festival blends science\, art and food in a celebration of the lush underwater ecosystems that line the Sydney coastline\, as well as the entire Great Southern Reef. \nGenerously funded by the My Community Grant program from the NSW Government\, this festival invites the community to participate in a celebration of our remarkable underwater forests through engagement with science and the communicative power of art. There will be panel discussions\, hands-on restoration work\, snorkelling tours\, tastings of seaweed delicacies\, and much more.
URL:https://www.undersearov.com/event/seaweed-forests-festival-2021/
LOCATION:Manly Art Gallery and Museum\, 1 West Esplanade\, Manly\, NSW\, 2095\, Australia
CATEGORIES:Environment,Marine Science
END:VEVENT
BEGIN:VEVENT
DTSTART;TZID=Australia/Sydney:20201204T203000
DTEND;TZID=Australia/Sydney:20201207T050000
DTSTAMP:20260421T093612
CREATED:20201204T064526Z
LAST-MODIFIED:20201204T064526Z
UID:2690-1607113800-1607317200@www.undersearov.com
SUMMARY:Annual Coral Spawning on GBR
DESCRIPTION:This once-a-year\, coral spawning event is happening on the outer Great Barrier Reef this weekend. The ABC will be streaming video live from 8:30pm Friday on ABC and iview: Reef Live \nBackground at: ABC Science 04dec20 
URL:https://www.undersearov.com/event/annual-coral-spawning-on-gbr/
CATEGORIES:Marine Science
END:VEVENT
BEGIN:VEVENT
DTSTART;TZID=Australia/Sydney:20201128T090000
DTEND;TZID=Australia/Sydney:20201128T170000
DTSTAMP:20260421T093612
CREATED:20200205T065645Z
LAST-MODIFIED:20201126T022835Z
UID:2325-1606554000-1606582800@www.undersearov.com
SUMMARY:MBRS Open Day 2020 - CANCELLED
DESCRIPTION:Moreton Bay Research Station plans to hold their Open Day 2020 on Saturday\, November 28th!  Come visit and check out the marine petting stations\, underwater robotics\, and other educational activities
URL:https://www.undersearov.com/event/mbrs-open-day-2020/
LOCATION:Moreton Bay Research Station\, 37 Fraser Street\, Dunwich\, QLD\, 4183\, Australia
CATEGORIES:Marine Science
ORGANIZER;CN="Moreton Bay Research Station":MAILTO:mbrs@uq.edu.au
END:VEVENT
BEGIN:VEVENT
DTSTART;TZID=Australia/Sydney:20201001T193000
DTEND;TZID=Australia/Sydney:20201001T203000
DTSTAMP:20260421T093612
CREATED:20200908T004504Z
LAST-MODIFIED:20200908T004537Z
UID:2598-1601580600-1601584200@www.undersearov.com
SUMMARY:Virtual Ocean Talks
DESCRIPTION:REGISTER NOW (it’s free) for The Australian National Maritime Museum’s Virtual Ocean Talks: Exploring Australia’s deep sea with Schmidt Ocean Institute \nAustralia is an island continent\, surrounded by three oceans and multiple seas\, which are home to some of the world’s most amazing organisms. Yet with so much water\, ocean life and discovery potential\, Australia has limited research opportunities. This year\, Schmidt Ocean Institute’s research vessel Falkor and its remotely operated vehicle (ROV) SuBastian\, explored Australia’s deep-sea submarine canyons\, seamount and coral ecosystems – bringing to light fascinating new species from coast to coast. \nHear from Drs Carlie Wiener (Schmidt Ocean Institute)\, Nerida Wilson (Western Australian Museum)\, and Robert Beaman (James Cook University) as they share some of the amazing surprises and discoveries that have been made for the first time.
URL:https://www.undersearov.com/event/virtual-ocean-talks/
CATEGORIES:Environment,Marine Science
ORGANIZER;CN="Australian National Maritime Museum":MAILTO:info@sea.museum
END:VEVENT
BEGIN:VEVENT
DTSTART;TZID=Australia/Sydney:20200409T123000
DTEND;TZID=Australia/Sydney:20200409T133000
DTSTAMP:20260421T093612
CREATED:20200407T041736Z
LAST-MODIFIED:20200407T041736Z
UID:2418-1586435400-1586439000@www.undersearov.com
SUMMARY:AMCS Coral Bleaching Webinar
DESCRIPTION:Last wee\, there was confirmation that a mass bleaching was occurring on our beautiful Great Barrier Reef\, the third in the past five years. \nToday\, scientists have released a map showing the extent of the bleaching this summer. At first glance\, it’s devastating. But what does it all mean? \nWith the mass bleaching happening amidst the news of COVID-19\, and the disruption that it’s had on our daily lives\, AMCS asked a coral reef expert\, Professor Morgan Pratchett\, to explain exactly what’s been happening on the Great Barrier Reef and to answer your questions. \nTo register\, visit:  https://email.marineconservation.org.au/t/j-l-qelrll-yhckllrdd-t/
URL:https://www.undersearov.com/event/amcs-coral-bleaching-webinar/
CATEGORIES:Environment,Marine Science
END:VEVENT
BEGIN:VEVENT
DTSTART;VALUE=DATE:20200320
DTEND;VALUE=DATE:20200323
DTSTAMP:20260421T093612
CREATED:20200206T051233Z
LAST-MODIFIED:20200206T051426Z
UID:2336-1584662400-1584921599@www.undersearov.com
SUMMARY:Bondi Ocean Lover's Festival 2020
DESCRIPTION:The Ocean Lovers Festival is an annual celebration of Ideas\, Art+Music and Actions\, showcasing some of the latest innovations\, science and state of the art technology for helping the oceans. \nA feature at the Bondi Icebergs Pool will be the SIMS’ “Live Ocean Revival Experience”. Presented by Volvo the immersive display showcases current research projects focusing on restoring the ecology of Sydney’s coastline and harbour and invites the public to literally get in and swim through an underwater Crayweed forest and Living Seawalls installation. \nExplore all the excitement of the Ocean Lovers Festival!
URL:https://www.undersearov.com/event/ocean-lovers-festival-2020/
LOCATION:Bondi Beach\, Bondi Beach\, NSW\, 2026\, Australia
CATEGORIES:Environment,Marine Science
ORGANIZER;CN="SIMS":MAILTO:info@sims.org.au
END:VEVENT
BEGIN:VEVENT
DTSTART;TZID=Australia/Sydney:20191130T100000
DTEND;TZID=Australia/Sydney:20191130T150000
DTSTAMP:20260421T093612
CREATED:20191116T152220Z
LAST-MODIFIED:20191116T152413Z
UID:2201-1575108000-1575126000@www.undersearov.com
SUMMARY:MBRS Open Day 2019
DESCRIPTION:We are thrilled to be participating in Moreton Bay Research Station’s Open Day 2019!  We will be bringing student robotics kits for visitors of any age to try out.  Visit their website for more details.
URL:https://www.undersearov.com/event/mbrs-open-day-2019/
LOCATION:Moreton Bay Research Station\, 37 Fraser Street\, Dunwich\, QLD\, 4183\, Australia
CATEGORIES:Marine Science
ORGANIZER;CN="Moreton Bay Research Station":MAILTO:mbrs@uq.edu.au
END:VEVENT
BEGIN:VEVENT
DTSTART;VALUE=DATE:20191008
DTEND;VALUE=DATE:20191009
DTSTAMP:20260421T093612
CREATED:20191011T051538Z
LAST-MODIFIED:20191011T051538Z
UID:2132-1570492800-1570579199@www.undersearov.com
SUMMARY:World Octopus Day
DESCRIPTION:Of course the 8th of October would be World Octopus Day!
URL:https://www.undersearov.com/event/world-octopus-day/
CATEGORIES:Marine Science
END:VEVENT
BEGIN:VEVENT
DTSTART;TZID=Australia/Sydney:20190525T080000
DTEND;TZID=Australia/Sydney:20190525T170000
DTSTAMP:20260421T093612
CREATED:20190225T221143Z
LAST-MODIFIED:20190408T071947Z
UID:1647-1558771200-1558803600@www.undersearov.com
SUMMARY:2019 Marine Science Forum
DESCRIPTION:This year\, the Sapphire Coast Marine Discovery Centre’s 10th Marine Science Forum will capture the wonder and fulfilment of seeing the beauty of the underwater and marine world. The audience will see the ocean through the eyes of professional photographers and videographers\, and fall in love with the marine world through photos\, experiences and personal stories. Through this connection\, the Forum will foster inspiration and determination to experience and care for the ocean we all love.
URL:https://www.undersearov.com/event/2019-marine-science-forum/
LOCATION:Club Sapphire\, 119 Main Street\, Merimbula\, NSW\, 2548\, Australia
CATEGORIES:Marine Science
END:VEVENT
BEGIN:VEVENT
DTSTART;VALUE=DATE:20181127
DTEND;VALUE=DATE:20181128
DTSTAMP:20260421T093612
CREATED:20181115T003020Z
LAST-MODIFIED:20190408T072126Z
UID:1379-1543276800-1543363199@www.undersearov.com
SUMMARY:MPSC Conference
DESCRIPTION:
URL:https://www.undersearov.com/event/mpsc-conference/
CATEGORIES:Environment,Marine Science
END:VEVENT
BEGIN:VEVENT
DTSTART;VALUE=DATE:20181124
DTEND;VALUE=DATE:20181125
DTSTAMP:20260421T093612
CREATED:20181121T002749Z
LAST-MODIFIED:20190408T072156Z
UID:1375-1543017600-1543103999@www.undersearov.com
SUMMARY:MBRS Open Day
DESCRIPTION:
URL:https://www.undersearov.com/event/mbrs-open-day/
LOCATION:Moreton Bay Research Station\, 37 Fraser Street\, Dunwich\, QLD\, 4183\, Australia
CATEGORIES:Environment,Marine Science
END:VEVENT
BEGIN:VEVENT
DTSTART;VALUE=DATE:20180925
DTEND;VALUE=DATE:20180926
DTSTAMP:20260421T093612
CREATED:20180829T014207Z
LAST-MODIFIED:20190408T072220Z
UID:1385-1537833600-1537919999@www.undersearov.com
SUMMARY:MTAQ Conference
DESCRIPTION:
URL:https://www.undersearov.com/event/mtaq-conference/
LOCATION:Tangalooma Island Resort\, Moreton Island\, QLD\, 4025\, Australia
CATEGORIES:Marine Science
END:VEVENT
END:VCALENDAR